BEGIN:VCALENDAR
VERSION:2.0
PRODID:-//ChamberMaster//Event Calendar 2.0//EN
METHOD:PUBLISH
X-PUBLISHED-TTL:P3D
REFRESH-INTERVAL:P3D
CALSCALE:GREGORIAN
BEGIN:VEVENT
DTSTART:20240530T133000Z
DTEND:20240530T170000Z
X-MICROSOFT-CDO-ALLDAYEVENT:FALSE
SUMMARY:2023 Leadership Northfield
DESCRIPTION:Communities need leaders who not only understand the future\, but also help create it.  Leadership Northfield enables candidates to learn about Northfield's resources\, strengths\, and opportunities.  Leadership Northfield is a nine-month program that begins in September and ends with graduation in May.  Classes are held the fourth Thursday of each month from 8:30am - 12:00pm.  Each session provides an in-depth look at nine key elements of our community: education\, economic development\, government\, healthcare\, public safety\, technology\, communications\, community culture and diversity.
X-ALT-DESC;FMTTYPE=text/html:<span style="color: rgb(73\, 73\, 73)\; font-family: Montserrat\, sans-serif\; font-size: 16px\;">Communities need leaders who not only understand the future\, but also help create it.&nbsp\;&nbsp\;</span><strong style="box-sizing: border-box\; color: rgb(73\, 73\, 73)\; font-family: Montserrat\, sans-serif\; font-size: 16px\;">Leadership Northfield</strong><span style="color: rgb(73\, 73\, 73)\; font-family: Montserrat\, sans-serif\; font-size: 16px\;">&nbsp\;enables candidates to learn about Northfield&#39\;s resources\, strengths\, and opportunities.&nbsp\;&nbsp\;</span><strong style="box-sizing: border-box\; color: rgb(73\, 73\, 73)\; font-family: Montserrat\, sans-serif\; font-size: 16px\;">Leadership Northfield</strong><span style="color: rgb(73\, 73\, 73)\; font-family: Montserrat\, sans-serif\; font-size: 16px\;">&nbsp\;is a nine-month program that begins in September and ends with graduation in May.&nbsp\; Classes are held the fourth Thursday of each month from 8:30am - 12:00pm.&nbsp\; Each session provides an in-depth look at nine key elements of our community: education\, economic development\, government\, healthcare\, public safety\, technology\, communications\, community culture and diversity.</span>
LOCATION:Communities need leaders who not only understand the future\, but also help create it. Leadership Northfield enables candidates to learn about Northfield's resources\, strengths\, and opportunities. Leadership Northfield is a nine-month program that begins in September and ends with graduation in May. Classes are held the fourth Thursday of each month from 8:30am - 12:00pm. Each session provides an in-depth look at nine key elements of our community: education\, economic development\, government\, healthcare\, public safety\, technology\, communications\, community culture and diversity.
UID:e.1626.9798
SEQUENCE:3
DTSTAMP:20260420T010717Z
URL:https://business.northfieldchamber.com/events/details/2023-leadership-northfield-05-23-2024-9798
END:VEVENT

END:VCALENDAR
