BEGIN:VCALENDAR
VERSION:2.0
PRODID:-//ChamberMaster//Event Calendar 2.0//EN
METHOD:PUBLISH
X-PUBLISHED-TTL:P3D
REFRESH-INTERVAL:P3D
CALSCALE:GREGORIAN
BEGIN:VEVENT
DTSTART:20251211T223000Z
DTEND:20251212T030000Z
X-MICROSOFT-CDO-ALLDAYEVENT:FALSE
SUMMARY:2025 Winter Walk
DESCRIPTION:Join us in celebrating the 27th Annual Winter Walk! Experience downtown Northfield by candlelight! Stroll through unique shops\, dine at fine restaurants\, enjoy caroling\, live reindeer\, fireworks\, storytelling\, luminarias\, decorated store fronts and much more!\n\nClick HERE for SPONSORSHIP/PARTICIPATION Information.
X-ALT-DESC;FMTTYPE=text/html:<span style="color: rgb(192\, 0\, 0)\; font-family: calibri\; font-size: 18.6667px\; font-weight: 700\;">Join us in celebrating the 27th Annual Winter Walk! Experience downtown Northfield by candlelight! Stroll through unique shops\, dine at fine restaurants\, enjoy caroling\, live reindeer\, fireworks\, storytelling\, luminarias\, decorated store fronts and much more!<br />\nClick <em><strong><span style="font-size:26px\;"><a href="https://chambermaster.blob.core.windows.net/userfiles/UserFiles/chambers/1626/File/ContributionForm-WinterWalk2025.docx">HERE </a></span></strong></em>for SPONSORSHIP/PARTICIPATION Information.</span>
LOCATION:Historic Downtown Northfield
UID:e.1626.10081
SEQUENCE:3
DTSTAMP:20260420T003815Z
URL:https://business.northfieldchamber.com/events/details/2025-winter-walk-10081
END:VEVENT

END:VCALENDAR
