BEGIN:VCALENDAR
VERSION:2.0
PRODID:-//ChamberMaster//Event Calendar 2.0//EN
METHOD:PUBLISH
X-PUBLISHED-TTL:P3D
REFRESH-INTERVAL:P3D
CALSCALE:GREGORIAN
BEGIN:VEVENT
DTSTART:20260622T153000Z
DTEND:20260622T230000Z
X-MICROSOFT-CDO-ALLDAYEVENT:FALSE
SUMMARY:2026 Chamber Cup Golf Tournament
DESCRIPTION:Come celebrate our 21st Annual Chamber tournament! The tournament is an excellent way to provide the Northfield area business community with a fun networking experience. There will be fun along the course along with some great raffle prizes. Sign up your foursome today or call the Chamber office about a sponsorship opportunities to help promote your business!\n\n\n\nEnjoy Early Bird pricing until May 30th!\n\nGolf- $125 Per Player (Savings of $10 Per Player)\n  NEW THIS YEAR   Early Bird Savings on Perfect Packages\, Only $60!   \n\nSkip the hassle at check-in and save $15 when you purchase your Perfect Package in advance!\n\nThese bundles are your ticket to more fun and better odds of winning! Each Perfect Package includes:\n\n   10 Raffle Tickets\n\n  3 Mulligans\n\n  3 Hit-The-Boats\n\n  3 Putting Contests\n\n  1 Scratch-Off Game\n\nIt's everything you need to maximize the fun and your chances on tournament day. Don't wait early bird pricing won't last!
X-ALT-DESC;FMTTYPE=text/html:<span style="font-size:16px\;"><span style="font-family:arial\;">Come celebrate our 21st Annual&nbsp\;Chamber tournament!&nbsp\;The tournament is an excellent way to provide the Northfield area business community with a fun networking experience. There will be fun along the course along with some great raffle prizes.&nbsp\;Sign up your foursome today or call the Chamber office about a sponsorship opportunities to help promote your business!<br />\n<br />\nEnjoy Early Bird pricing until May 30th!<br />\nGolf- $125 Per Player (Savings of $10 Per Player)</span></span>\n<p data-end="187" data-start="122"><span style="font-size:16px\;"><span style="font-family:arial\;">&#127881\; <strong data-end="184" data-start="125">NEW THIS YEAR &ndash\; Early Bird Savings on Perfect Packages\, Only $60!</strong> &#9971\;&#65039\;</span></span></p>\n\n<p data-end="288" data-start="189"><span style="font-size:16px\;"><span style="font-family:arial\;">Skip the hassle at check-in <em data-end="222" data-start="217">and</em> save $15 when you purchase your <strong data-end="274" data-start="255">Perfect Package</strong> in advance!</span></span></p>\n\n<p data-end="500" data-start="290"><span style="font-size:16px\;"><span style="font-family:arial\;">These bundles are your ticket to more fun&mdash\;and better odds of winning! Each Perfect Package includes:<br data-end="393" data-start="390" />\n&#127903\;&#65039\; 10 Raffle Tickets<br data-end="417" data-start="414" />\n&#10133\; 3 Mulligans<br data-end="433" data-start="430" />\n&#128676\; 3 Hit-The-Boats<br data-end="454" data-start="451" />\n&#9971\; 3 Putting Contests<br data-end="477" data-start="474" />\n&#128165\; 1 Scratch-Off Game</span></span></p>\n\n<p data-end="628" data-start="502"><span style="font-size:16px\;"><span style="font-family:arial\;">It&rsquo\;s everything you need to maximize the fun and your chances on tournament day. Don&rsquo\;t wait&mdash\;<strong data-end="628" data-start="594">early bird pricing won&rsquo\;t last!</strong></span></span></p>\n
LOCATION:Willinger's Golf Course 6797 Canby Trail Northfield\, MN 55057
UID:e.1626.10419
SEQUENCE:3
DTSTAMP:20260419T122446Z
URL:https://business.northfieldchamber.com/events/details/2026-chamber-cup-golf-tournament-10419
END:VEVENT

END:VCALENDAR
