BEGIN:VCALENDAR
VERSION:2.0
PRODID:-//ChamberMaster//Event Calendar 2.0//EN
METHOD:PUBLISH
X-PUBLISHED-TTL:P3D
REFRESH-INTERVAL:P3D
CALSCALE:GREGORIAN
BEGIN:VEVENT
DTSTART:20260224T223000Z
DTEND:20260225T000000Z
X-MICROSOFT-CDO-ALLDAYEVENT:FALSE
SUMMARY:Business After Hours
DESCRIPTION:Join us at the KYMN Radio Station/ Podcast Production Studio for February's Business After Hours. Mingle with fellow Chamber members in a lively\, welcoming atmosphere. Hors d'oeuvres and beverages will be available.  Enjoy a live\, on air DJ\, get a behind the scenes look at how a commercial is recorded and even take a free turn at the mic! \n\nDon't forget the Progressive Chamber Pot: over $100 in Chamber Bucks is up for grabs\, but you must be present to win. It's an afternoon of connections\, community\, and fun you won't want to miss.
X-ALT-DESC;FMTTYPE=text/html:<p style="color: rgb(36\, 36\, 36)\; font-family: &quot\;Segoe UI&quot\;\, &quot\;Segoe UI Web (West European)&quot\;\, -apple-system\, BlinkMacSystemFont\, Roboto\, &quot\;Helvetica Neue&quot\;\, sans-serif\; font-size: small\;"><strong data-olk-copy-source="MessageBody">Join us at the KYMN Radio Station/ Podcast Production Studio for February&#39\;s Business After Hours.&nbsp\;</strong>Mingle with fellow Chamber members in a lively\, welcoming atmosphere. Hors d&#39\;oeuvres&nbsp\;and beverages will be available.&nbsp\; Enjoy a live\, on&#8209\;air DJ\, get a behind&#8209\;the&#8209\;scenes look at how a commercial is recorded and even take a free turn at the mic!&nbsp\;</p>\n\n<p style="color: rgb(36\, 36\, 36)\; font-family: &quot\;Segoe UI&quot\;\, &quot\;Segoe UI Web (West European)&quot\;\, -apple-system\, BlinkMacSystemFont\, Roboto\, &quot\;Helvetica Neue&quot\;\, sans-serif\; font-size: small\;">Don&rsquo\;t forget the Progressive Chamber Pot: over $100 in Chamber Bucks is up for grabs\, but you must be present to win. It&rsquo\;s an afternoon of connections\, community\, and fun you won&rsquo\;t want to miss.</p>\n
LOCATION:KYMN/95.1 200 Division Street South
UID:e.1626.10403
SEQUENCE:3
DTSTAMP:20260419T121704Z
URL:https://business.northfieldchamber.com/events/details/business-after-hours-02-24-2026-10403
END:VEVENT

END:VCALENDAR
