BEGIN:VCALENDAR
VERSION:2.0
PRODID:-//ChamberMaster//Event Calendar 2.0//EN
METHOD:PUBLISH
X-PUBLISHED-TTL:P3D
REFRESH-INTERVAL:P3D
CALSCALE:GREGORIAN
BEGIN:VEVENT
DTSTART:20260428T213000Z
DTEND:20260428T230000Z
X-MICROSOFT-CDO-ALLDAYEVENT:FALSE
SUMMARY:Business After Hours
DESCRIPTION:Join us for this month's Business After Hours\, a fantastic opportunity to network with fellow Chamber members and local business professionals in a welcoming and relaxed atmosphere. This event is the perfect chance to make new connections\, strengthen existing relationships\, and learn more about our featured host and their business.\n\nThe event will be catered by Ruth\, featuring several delicious appetizers\, along with adult beverages including beer and wine\, as well as non-alcoholic options.\n\nDon't forget about the Progressive Chamber Pot\, which is over $100! One lucky member will be drawn\, but you must be present to win. Don't miss out on an afternoon of connections\, community\, and the chance to take home Chamber Bucks.\n\nWe look forward to seeing you there!
X-ALT-DESC;FMTTYPE=text/html:<p data-end="428" data-start="95">Join us for this month&rsquo\;s Business After Hours\, a fantastic opportunity to network with fellow Chamber members and local business professionals in a welcoming and relaxed atmosphere. This event is the perfect chance to make new connections\, strengthen existing relationships\, and learn more about our featured host and their business.</p>\n\n<p data-end="590" data-start="430">The event will be catered by Ruth\, featuring several delicious appetizers\, along with adult beverages including beer and wine\, as well as non-alcoholic options.</p>\n\n<p data-end="824" data-start="592">Don&rsquo\;t forget about the Progressive Chamber Pot\, which is over $100! One lucky member will be drawn\, but you must be present to win. Don&rsquo\;t miss out on an afternoon of connections\, community\, and the chance to take home Chamber Bucks.</p>\n\n<p data-end="862" data-is-last-node="" data-is-only-node="" data-start="826">We look forward to seeing you there!</p>\n
LOCATION:Merchants Bank- Downtown Location 329 Division St
UID:e.1626.10405
SEQUENCE:3
DTSTAMP:20260419T183337Z
URL:https://business.northfieldchamber.com/events/details/business-after-hours-04-28-2026-10405
END:VEVENT

END:VCALENDAR
