BEGIN:VCALENDAR
VERSION:2.0
PRODID:-//ChamberMaster//Event Calendar 2.0//EN
METHOD:PUBLISH
X-PUBLISHED-TTL:P3D
REFRESH-INTERVAL:P3D
CALSCALE:GREGORIAN
BEGIN:VEVENT
DTSTART:20260728T213000Z
DTEND:20260728T230000Z
X-MICROSOFT-CDO-ALLDAYEVENT:FALSE
SUMMARY:Business After Hours
DESCRIPTION:Join us for this month's Business After Hours\, a fantastic opportunity to network with fellow Chamber members and local business professionals in a welcoming and relaxed atmosphere. This event is the perfect chance to make new connections\, strengthen existing relationships\, and learn more about our featured host and their business.\n\n\n\n Don't forget about the Progressive Chamber Pot\, which is over $100?one lucky member will be drawn\, but you must be present to win. Don't miss out on an afternoon of connections\, community\, and the chance to take home Chamber Bucks. We look forward to seeing you there!
X-ALT-DESC;FMTTYPE=text/html:<span style="background-image: initial\; background-position: initial\; background-size: initial\; background-repeat: initial\; background-attachment: initial\; background-origin: initial\; background-clip: initial\;"><span style="font-family: arial\, sans-serif\;"><span style="font-size: 10pt\;">Join us for this month&#39\;s Business After Hours\, a fantastic opportunity to network with fellow Chamber members and local business professionals in a welcoming and relaxed atmosphere. This event is the perfect chance to make new connections\, strengthen existing relationships\, and learn more about our featured host and their business.</span></span></span><br />\n<br />\n<span style="font-family: arial\, sans-serif\;"><span style="font-size: 10pt\;">&#8203\;Don&#39\;t forget about the Progressive Chamber Pot\, which is over $100?one lucky member will be drawn\, but you must be present to win. Don&#39\;t miss out on an afternoon of connections\, community\, and the chance to take home Chamber Bucks. We look forward to seeing you there!</span></span>
LOCATION:TBD
UID:e.1626.10408
SEQUENCE:3
DTSTAMP:20260419T122513Z
URL:https://business.northfieldchamber.com/events/details/business-after-hours-07-28-2026-10408
END:VEVENT

END:VCALENDAR
