BEGIN:VCALENDAR
VERSION:2.0
PRODID:-//ChamberMaster//Event Calendar 2.0//EN
METHOD:PUBLISH
X-PUBLISHED-TTL:P3D
REFRESH-INTERVAL:P3D
CALSCALE:GREGORIAN
BEGIN:VEVENT
DTSTART:20200305T010000Z
DTEND:20200305T030000Z
X-MICROSOFT-CDO-ALLDAYEVENT:FALSE
SUMMARY:Chamber Bowl
DESCRIPTION:This is networking and FUN all in one! "STRIKE" up a conversation with someone new and "PIN" down a new contact!  We're sure to have a "BALL." But "SPARE" us the bowling jokes!
X-ALT-DESC;FMTTYPE=text/html:This is networking and FUN all in one! &quot\;STRIKE&quot\; up a conversation with someone new and &quot\;PIN&quot\; down a new contact!&nbsp\; We&#39\;re sure to have a &quot\;BALL.&quot\; But &quot\;SPARE&quot\; us the bowling jokes!
LOCATION:Jesse James Lanes Northfield\, MN
UID:e.1626.8653
SEQUENCE:3
DTSTAMP:20260424T131954Z
URL:https://business.northfieldchamber.com/events/details/chamber-bowl-8653
END:VEVENT

END:VCALENDAR
