BEGIN:VCALENDAR
VERSION:2.0
PRODID:-//ChamberMaster//Event Calendar 2.0//EN
METHOD:PUBLISH
X-PUBLISHED-TTL:P3D
REFRESH-INTERVAL:P3D
CALSCALE:GREGORIAN
BEGIN:VEVENT
DTSTART:20260425T150000Z
DTEND:20260425T170000Z
X-MICROSOFT-CDO-ALLDAYEVENT:FALSE
SUMMARY:Kid’s Planting Day
DESCRIPTION:Bring the kids to the nursery for a hands-on planting adventure! Children choose their own pot or hanging basket\, pick their plants\, and get their hands dirty doing the planting themselves   then leave the mess for us! All ages are welcome. We'll grow and care for their creation right here in our greenhouses for two weeks\, so it arrives in full\, beautiful bloom just in time for Mother's Day weekend pickup. It makes a perfect gift   and an even better memory. Cost is only $12 for an 8" pot or $18 for a 10" hanging basket. Register online here
X-ALT-DESC;FMTTYPE=text/html:Bring the kids to the nursery for a hands-on planting adventure! Children choose their own pot or hanging basket\, pick their plants\, and get their hands dirty doing the planting themselves &mdash\; then leave the mess for us! All ages are welcome. We&rsquo\;ll grow and care for their creation right here in our greenhouses for two weeks\, so it arrives in full\, beautiful bloom just in time for Mother&rsquo\;s Day weekend pickup. It makes a perfect gift &mdash\; and an even better memory. Cost is only $12 for an 8&quot\; pot or $18 for a 10&quot\; hanging basket. Register online <a href="https://knechts.net/event/kids-planting-day/">here</a>
LOCATION:Knecht's Nurseries & Landscaping 1601 Hwy 19 W Northfield\, MN 55057
UID:e.1626.10448
SEQUENCE:3
DTSTAMP:20260422T170905Z
URL:https://business.northfieldchamber.com/events/details/kid-s-planting-day-10448
END:VEVENT

END:VCALENDAR
