BEGIN:VCALENDAR
VERSION:2.0
PRODID:-//ChamberMaster//Event Calendar 2.0//EN
METHOD:PUBLISH
X-PUBLISHED-TTL:P3D
REFRESH-INTERVAL:P3D
CALSCALE:GREGORIAN
BEGIN:VEVENT
DTSTART:20260409T123000Z
DTEND:20260409T133000Z
X-MICROSOFT-CDO-ALLDAYEVENT:FALSE
SUMMARY:Morning Mingle
DESCRIPTION:Start your morning off right with coffee\, pastries\, and great connections at this month's Morning Mingle! This is your chance to meet other Chamber members and business professionals\, share your ideas and business needs\, and learn more about our featured host.\n\n\n\nFiftyNorth is celebrating their 50th year of serving our community! During the month of April\, guests are invited to explore a special timeline display set up throughout the gallery hallways\, highlighting key moments and milestones from FiftyNorth's incredible 50-year history. Join us to connect\, celebrate\, and reflect on the impact FiftyNorth has made over the years.\n\nDon't forget your business could win over $100 in Chamber Bucks! With $10 added to the Progressive Chamber Pot at every networking event\, one lucky member is drawn each month but you must be present to win.\n\nJoin us for a productive and engaging start to your day. We look forward to seeing you there!
X-ALT-DESC;FMTTYPE=text/html:<p><span style="font-size:10.0pt\;font-family:&quot\;Arial&quot\;\,sans-serif\;color:#333333">Start your morning off right with coffee\, pastries\, and great connections at this month&#39\;s Morning Mingle! This is your chance to meet other Chamber members and business professionals\, share your ideas and business needs\, and learn more about our featured host.</span><br />\n<br />\nFiftyNorth is celebrating their 50th year of serving our community! During the month of April\, guests are invited to explore a special timeline display set up throughout the gallery hallways\, highlighting key moments and milestones from FiftyNorth&rsquo\;s incredible 50-year history. Join us to connect\, celebrate\, and reflect on the impact FiftyNorth has made over the years.<span style="font-size:10.0pt\;font-family:&quot\;Arial&quot\;\,sans-serif\;color:#333333"><o:p></o:p></span></p>\n\n<p style="font-variant-ligatures: normal\;font-variant-caps: normal\;orphans: 2\;\ntext-align:start\;widows: 2\;-webkit-text-stroke-width: 0px\;text-decoration-thickness: initial\;\ntext-decoration-style: initial\;text-decoration-color: initial\;word-spacing:\n0px"><span style="font-size:10.0pt\;font-family:&quot\;Arial&quot\;\,sans-serif\;color:#333333">Don&#39\;t forget your business could win over $100 in Chamber Bucks! With $10 added to the Progressive Chamber Pot at every networking event\, one lucky member is drawn each month but you must be present to win.<o:p></o:p></span></p>\n\n<p style="font-variant-ligatures: normal\;font-variant-caps: normal\;orphans: 2\;\ntext-align:start\;widows: 2\;-webkit-text-stroke-width: 0px\;text-decoration-thickness: initial\;\ntext-decoration-style: initial\;text-decoration-color: initial\;word-spacing:\n0px"><span style="font-size:10.0pt\;font-family:&quot\;Arial&quot\;\,sans-serif\;color:#333333">Join us for a productive and engaging start to your day. We look forward to seeing you there!<o:p></o:p></span></p>\n\n<p><span style="font-size:10.0pt\;font-family:&quot\;Arial&quot\;\,sans-serif\;color:#333333"><o:p></o:p></span></p>\n
LOCATION:FiftyNorth 1651 Jefferson Parkway
UID:e.1626.10381
SEQUENCE:3
DTSTAMP:20260419T194416Z
URL:https://business.northfieldchamber.com/events/details/morning-mingle-04-09-2026-10381
END:VEVENT

END:VCALENDAR
