BEGIN:VCALENDAR
VERSION:2.0
PRODID:-//ChamberMaster//Event Calendar 2.0//EN
METHOD:PUBLISH
X-PUBLISHED-TTL:P3D
REFRESH-INTERVAL:P3D
CALSCALE:GREGORIAN
BEGIN:VEVENT
DTSTART:20250109T133000Z
DTEND:20250109T143000Z
X-MICROSOFT-CDO-ALLDAYEVENT:FALSE
SUMMARY:Morning Mingle
DESCRIPTION:Start your morning off right with coffee\, pastries\, and great connections at this month's Morning Mingle! This is your chance to meet other Chamber members and business professionals\, share your ideas and business needs\, and learn more about our featured host- Just Food Co-Op! Just Food Co-op\, located in downtown Northfield\, offers high-quality\, fresh\, local\, and organic food\, along with natural household products. Their mission supports a just\, healthy\, and sustainable community\, ensuring you can shop with confidence.\n\nDon't forget your business could win over $100 in Chamber Bucks! With $10 added to the Progressive Chamber Pot at every networking event\, one lucky member is drawn each month but you must be present to win.\n\nJoin us for a productive and engaging start to your day. We look forward to seeing you there!
X-ALT-DESC;FMTTYPE=text/html:<p>Start your morning off right with coffee\, pastries\, and great connections at this month&rsquo\;s Morning Mingle! This is your chance to meet other Chamber members and business professionals\, share your ideas and business needs\, and learn more about our featured host- Just Food Co-Op!&nbsp\;Just Food Co-op\, located in downtown Northfield\, offers high-quality\, fresh\, local\, and organic food\, along with natural household products. Their mission supports a just\, healthy\, and sustainable community\, ensuring you can shop with confidence.</p>\n\n<p>Don&rsquo\;t forget&mdash\;your business could win over $100 in Chamber Bucks! With $10 added to the Progressive Chamber Pot at every networking event\, one lucky member is drawn each month&mdash\;but you must be present to win.</p>\n\n<p>Join us for a productive and engaging start to your day. We look forward to seeing you there!</p>\n
LOCATION:Just Food Co-Op 516 Water Street South
UID:e.1626.10018
SEQUENCE:3
DTSTAMP:20260419T144716Z
URL:https://business.northfieldchamber.com/events/details/morning-mingle-10018
END:VEVENT

END:VCALENDAR
