BEGIN:VCALENDAR
VERSION:2.0
PRODID:-//ChamberMaster//Event Calendar 2.0//EN
METHOD:PUBLISH
X-PUBLISHED-TTL:P3D
REFRESH-INTERVAL:P3D
CALSCALE:GREGORIAN
BEGIN:VEVENT
DTSTART:20251211T133000Z
DTEND:20251211T143000Z
X-MICROSOFT-CDO-ALLDAYEVENT:FALSE
SUMMARY:Morning Mingle
DESCRIPTION:Start your morning off right with coffee\, pastries\, and great connections at this month's Morning Mingle! This is your chance to meet other Chamber members and business professionals\, share your ideas and business needs\, and learn more about our featured host.\n\nDon't forget your business could win over $100 in Chamber Bucks! With $10 added to the Progressive Chamber Pot at every networking event\, one lucky member is drawn each month but you must be present to win.\n\nJoin us for a productive and engaging start to your day. We look forward to seeing you there!
X-ALT-DESC;FMTTYPE=text/html:<p>Start your morning off right with coffee\, pastries\, and great connections at this month&rsquo\;s Morning Mingle! This is your chance to meet other Chamber members and business professionals\, share your ideas and business needs\, and learn more about our featured host.</p>\n\n<p>Don&rsquo\;t forget&mdash\;your business could win over $100 in Chamber Bucks! With $10 added to the Progressive Chamber Pot at every networking event\, one lucky member is drawn each month&mdash\;but you must be present to win.</p>\n\n<p>Join us for a productive and engaging start to your day. We look forward to seeing you there!</p>\n
LOCATION:Bierman\, Benson & Langehough Funeral Home 1316 Division Street South
UID:e.1626.10057
SEQUENCE:3
DTSTAMP:20260420T061801Z
URL:https://business.northfieldchamber.com/events/details/morning-mingle-10057
END:VEVENT

END:VCALENDAR
