BEGIN:VCALENDAR
VERSION:2.0
PRODID:-//ChamberMaster//Event Calendar 2.0//EN
METHOD:PUBLISH
X-PUBLISHED-TTL:P3D
REFRESH-INTERVAL:P3D
CALSCALE:GREGORIAN
BEGIN:VEVENT
DTSTART:20250902T170000Z
DTEND:20250902T180000Z
X-MICROSOFT-CDO-ALLDAYEVENT:FALSE
SUMMARY:My Pro Luncheon
DESCRIPTION:Join us for September's MyPro Luncheon at Northfield's newest dining spot Rosemary's Italian Kitchen & Bar! This is the perfect opportunity to connect with fellow professionals while enjoying a fresh\, modern take on Italian cuisine in a welcoming atmosphere. Don't miss this chance to network\, share ideas\, and be among the first to experience one of Northfield's newest restaurants.\n\n\n\n**PLEASE MAKE SURE TO RSVP SO WE CAN HAVE THE CORRECT AMOUNT OF RESERVATIONS. THANK YOU!**
X-ALT-DESC;FMTTYPE=text/html:<span style="color: rgb(36\, 36\, 36)\; font-family: Arial\; font-size: 13.3333px\;">Join us for September&rsquo\;s&nbsp\;</span><span class="mark2i0zwgduo" data-markjs="true" data-ogab="" data-ogac="" data-ogsb="" data-ogsc="" style="border: 0px\; font-variant-numeric: inherit\; font-variant-east-asian: inherit\; font-variant-alternates: inherit\; font-variant-position: inherit\; font-variant-emoji: inherit\; font-stretch: inherit\; font-size: 13.3333px\; line-height: inherit\; font-family: Arial\; font-optical-sizing: inherit\; font-size-adjust: inherit\; font-kerning: inherit\; font-feature-settings: inherit\; font-variation-settings: inherit\; margin: 0px\; padding: 0px\; vertical-align: baseline\; color: rgb(36\, 36\, 36)\;">My</span><span style="color: rgb(36\, 36\, 36)\; font-family: Arial\; font-size: 13.3333px\;">Pro Luncheon at Northfield&rsquo\;s newest dining spot&mdash\;</span><strong data-end="173" data-start="136" style="color: rgb(36\, 36\, 36)\; font-family: Arial\; font-size: 13.3333px\;">Rosemary&rsquo\;s Italian Kitchen &amp\; Bar!</strong><span style="color: rgb(36\, 36\, 36)\; font-family: Arial\; font-size: 13.3333px\;">&nbsp\;This is the perfect opportunity to connect with fellow&nbsp\;</span><span class="mark9auvwb88h" data-markjs="true" data-ogab="" data-ogac="" data-ogsb="" data-ogsc="" style="border: 0px\; font-variant-numeric: inherit\; font-variant-east-asian: inherit\; font-variant-alternates: inherit\; font-variant-position: inherit\; font-variant-emoji: inherit\; font-stretch: inherit\; font-size: 13.3333px\; line-height: inherit\; font-family: Arial\; font-optical-sizing: inherit\; font-size-adjust: inherit\; font-kerning: inherit\; font-feature-settings: inherit\; font-variation-settings: inherit\; margin: 0px\; padding: 0px\; vertical-align: baseline\; color: rgb(36\, 36\, 36)\;">pro</span><span style="color: rgb(36\, 36\, 36)\; font-family: Arial\; font-size: 13.3333px\;">fessionals while enjoying a fresh\, modern take on Italian cuisine in a welcoming atmosphere. Don&rsquo\;t miss this chance to network\, share ideas\, and be among the first to experience one of Northfield&rsquo\;s newest restaurants.</span><br />\n<br />\n**PLEASE MAKE SURE TO RSVP SO WE CAN HAVE THE CORRECT AMOUNT OF RESERVATIONS. THANK YOU!**
LOCATION:Rosemary Italian Kitchen 2300 Gleason Court
UID:e.1626.10139
SEQUENCE:3
DTSTAMP:20260423T165911Z
URL:https://business.northfieldchamber.com/events/details/my-pro-luncheon-10139
END:VEVENT

END:VCALENDAR
