BEGIN:VCALENDAR
VERSION:2.0
PRODID:-//ChamberMaster//Event Calendar 2.0//EN
METHOD:PUBLISH
X-PUBLISHED-TTL:P3D
REFRESH-INTERVAL:P3D
CALSCALE:GREGORIAN
BEGIN:VEVENT
DTSTART:20260505T170000Z
DTEND:20260505T180000Z
X-MICROSOFT-CDO-ALLDAYEVENT:FALSE
SUMMARY:My Pro Luncheon
DESCRIPTION:Join us for a special Cinco De Mayo Y-Pro! Take a mid-day break to enjoy a casual lunch\, catch up with fellow business professionals\, and make some new connections in a relaxed\, welcoming atmosphere. Whether you're looking to strengthen existing relationships or meet new faces in the Northfield business community\, this is the perfect opportunity to do both over great food and conversation.\n\n\n**PLEASE MAKE SURE TO RSVP SO WE CAN HAVE THE CORRECT AMOUNT OF RESERVATIONS. THANK YOU!**
X-ALT-DESC;FMTTYPE=text/html:<p data-end="433" data-start="26">Join us for a special Cinco De Mayo Y-Pro! Take a mid-day break to enjoy a casual lunch\, catch up with fellow business professionals\, and make some new connections in a relaxed\, welcoming atmosphere. Whether you&rsquo\;re looking to strengthen existing relationships or meet new faces in the Northfield business community\, this is the perfect opportunity to do both&mdash\;over great food and conversation.</p>\n<br />\n**PLEASE MAKE SURE TO RSVP SO WE CAN HAVE THE CORRECT AMOUNT OF RESERVATIONS. THANK YOU!**
LOCATION:El Tequila 1010 MN-3 South
UID:e.1626.10430
SEQUENCE:3
DTSTAMP:20260419T172926Z
URL:https://business.northfieldchamber.com/events/details/my-pro-luncheon-10430
END:VEVENT

END:VCALENDAR
