BEGIN:VCALENDAR
VERSION:2.0
PRODID:-//ChamberMaster//Event Calendar 2.0//EN
METHOD:PUBLISH
X-PUBLISHED-TTL:P3D
REFRESH-INTERVAL:P3D
CALSCALE:GREGORIAN
BEGIN:VEVENT
DTSTART:20250319T213000Z
DTEND:20250319T230000Z
X-MICROSOFT-CDO-ALLDAYEVENT:FALSE
SUMMARY:Open House & Q&A on the New Ice Arena
DESCRIPTION:Join us for an open house to learn more about the plans for Northfield's new ice arena! This is a great opportunity to hear about the vision for the project\, ask questions\, and connect with others in the community. The event will include a brief presentation at 5:15 PM\, followed by a Q&A session. Food and beverages will be provided. This event is sponsored by College City Beverage\, the Northfield Hockey Association\, and the Northfield Chamber of Commerce. We look forward to seeing you there!
X-ALT-DESC;FMTTYPE=text/html:Join us for an open house to learn more about the plans for Northfield&rsquo\;s new ice arena! This is a great opportunity to hear about the vision for the project\, ask questions\, and connect with others in the community. The event will include a brief presentation at 5:15 PM\, followed by a Q&amp\;A session. Food and beverages will be provided. This event is sponsored by College City Beverage\, the Northfield Hockey Association\, and the Northfield Chamber of Commerce. We look forward to seeing you there!
LOCATION:College City Beverage- Gathering Room 700 Railway Street South Dundas\, MN 55019
UID:e.1626.10127
SEQUENCE:3
DTSTAMP:20260419T145049Z
URL:https://business.northfieldchamber.com/events/details/open-house-q-a-on-the-new-ice-arena-10127
END:VEVENT

END:VCALENDAR
