BEGIN:VCALENDAR
VERSION:2.0
PRODID:-//ChamberMaster//Event Calendar 2.0//EN
METHOD:PUBLISH
X-PUBLISHED-TTL:P3D
REFRESH-INTERVAL:P3D
CALSCALE:GREGORIAN
BEGIN:VEVENT
DTSTART:20260428T150000Z
DTEND:20260429T033000Z
X-MICROSOFT-CDO-ALLDAYEVENT:FALSE
SUMMARY:Ribbon Cutting Ceremony For Elisa Pho
DESCRIPTION:Join us in welcoming Elisa Pho\, Dundas' newest destination for authentic Vietnamese cuisine! Celebrate their soft opening with a special ribbon cutting ceremony and be among the first to experience their delicious menu.\n\nCome show your support for this exciting new business\, meet the team behind Elisa Pho\, and enjoy the vibrant flavors of Vietnam right here in our community. As a special treat\, the first 100 customers will receive free egg rolls!\n\nDon't miss this chance to be part of the celebration great food\, great company\, and a warm welcome to Elisa Pho!
X-ALT-DESC;FMTTYPE=text/html:<p data-end="274" data-start="55">Join us in welcoming Elisa Pho\, Dundas&rsquo\; newest destination for authentic Vietnamese cuisine! Celebrate their soft opening with a special ribbon cutting ceremony and be among the first to experience their delicious menu.</p>\n\n<p data-end="505" data-start="276">Come show your support for this exciting new business\, meet the team behind Elisa Pho\, and enjoy the vibrant flavors of Vietnam right here in our community. As a special treat\, the first 100 customers will receive free egg rolls!</p>\n\n<p data-end="619" data-is-last-node="" data-is-only-node="" data-start="507">Don&rsquo\;t miss this chance to be part of the celebration&mdash\;great food\, great company\, and a warm welcome to Elisa Pho!</p>\n
LOCATION:Elisa Pho 396 Schilling Drive Dundas\, MN 55019
UID:e.1626.10447
SEQUENCE:3
DTSTAMP:20260421T002753Z
URL:https://business.northfieldchamber.com/events/details/ribbon-cutting-ceremony-for-elisa-pho-10447
END:VEVENT

END:VCALENDAR
