BEGIN:VCALENDAR
VERSION:2.0
PRODID:-//ChamberMaster//Event Calendar 2.0//EN
METHOD:PUBLISH
X-PUBLISHED-TTL:P3D
REFRESH-INTERVAL:P3D
CALSCALE:GREGORIAN
BEGIN:VEVENT
DTSTART:20250227T160000Z
DTEND:20250227T163000Z
X-MICROSOFT-CDO-ALLDAYEVENT:FALSE
SUMMARY:Ribbon Cutting Ceremony for Mainstream Boutique
DESCRIPTION:Join us for a Ribbon Cutting Ceremony to celebrate the Grand Re-Opening of Mainstream Boutique. Help us welcome the new owners\, Kimberly and Thomas\, and check out the beautifully remodeled boutique.\n\n\n\nThis event marks the beginning of a four-day celebration filled with exciting activities. Throughout the celebration\, guests can enjoy snacks\, pop-up vendors\, trunk shows\, and special giveaways\, with Saturday featuring even more prizes. With every purchase\, shoppers will be entered into a drawing for a chance to win a $75 gift card each month for a year. Don't miss this opportunity to support a local business\, explore the refreshed space\, and take part in a kick off weekend full of fun.
X-ALT-DESC;FMTTYPE=text/html:Join us for a Ribbon Cutting Ceremony to celebrate the Grand Re-Opening of Mainstream Boutique. Help us welcome the new owners\, Kimberly and Thomas\, and check out the beautifully remodeled boutique.<br />\n<br />\nThis event marks the beginning of a four-day celebration filled with exciting activities. Throughout the celebration\, guests can enjoy snacks\, pop-up vendors\, trunk shows\, and special giveaways\, with Saturday featuring even more prizes. With every purchase\, shoppers will be entered into a drawing for a chance to win a $75 gift card each month for a year. Don&#39\;t miss this opportunity to support a local business\, explore the refreshed space\, and take part in a kick off weekend full of fun.
LOCATION:Mainstream Boutique 506 Division Street
UID:e.1626.10121
SEQUENCE:3
DTSTAMP:20260419T120643Z
URL:https://business.northfieldchamber.com/events/details/ribbon-cutting-ceremony-for-mainstream-boutique-10121
END:VEVENT

END:VCALENDAR
