BEGIN:VCALENDAR
VERSION:2.0
PRODID:-//ChamberMaster//Event Calendar 2.0//EN
METHOD:PUBLISH
X-PUBLISHED-TTL:P3D
REFRESH-INTERVAL:P3D
CALSCALE:GREGORIAN
BEGIN:VEVENT
DTSTART:20250207T220000Z
DTEND:20250207T223000Z
X-MICROSOFT-CDO-ALLDAYEVENT:FALSE
SUMMARY:Ribbon Cutting Ceremony for Montessori Children's House
DESCRIPTION:Join us in celebrating Montessori Children's House with a special ribbon-cutting ceremony! \n\n\n\nAbout Montessori Children's House:\n\nMontessori Children's House is a premier early childhood education center in Northfield\, dedicated to fostering a love of learning in young children through the Montessori method. Their program offers a nurturing environment that promotes independence\, creativity\, and curiosity while encouraging hands-on\, child-led exploration. With highly trained staff\, a focus on individualized learning\, and a commitment to holistic development\, Montessori Children's House provides an exceptional foundation for lifelong success.
X-ALT-DESC;FMTTYPE=text/html:Join us in celebrating Montessori Children&#39\;s House with a special ribbon-cutting ceremony!&nbsp\;<br />\n<br />\n<strong>About Montessori Children&#39\;s House:</strong><br />\nMontessori Children&#39\;s House is a premier early childhood education center in Northfield\, dedicated to fostering a love of learning in young children through the Montessori method. Their program offers a nurturing environment that promotes independence\, creativity\, and curiosity while encouraging hands-on\, child-led exploration. With highly trained staff\, a focus on individualized learning\, and a commitment to holistic development\, Montessori Children&#39\;s House provides an exceptional foundation for lifelong success.
LOCATION:Montessori Children's House 2400 Division Street South
UID:e.1626.10106
SEQUENCE:3
DTSTAMP:20260419T121356Z
URL:https://business.northfieldchamber.com/events/details/ribbon-cutting-ceremony-for-montessori-children-s-house-10106
END:VEVENT

END:VCALENDAR
