BEGIN:VCALENDAR
VERSION:2.0
PRODID:-//ChamberMaster//Event Calendar 2.0//EN
METHOD:PUBLISH
X-PUBLISHED-TTL:P3D
REFRESH-INTERVAL:P3D
CALSCALE:GREGORIAN
BEGIN:VEVENT
DTSTART:20241217T213000Z
DTEND:20241217T220000Z
X-MICROSOFT-CDO-ALLDAYEVENT:FALSE
SUMMARY:Ribbon Cutting Ceremony for Washed Again.
DESCRIPTION:Join us as we celebrate Washed Again and their incredible milestone   the completion of their new building and business! This exciting achievement marks a new chapter for their growing success\, and we're thrilled to share this moment with them. Come celebrate with us\, meet the team\, and be part of this special occasion!
X-ALT-DESC;FMTTYPE=text/html:<p>Join us as we celebrate <strong>Washed Again</strong> and their incredible milestone &ndash\; the completion of their new building and business! This exciting achievement marks a new chapter for their growing success\, and we&rsquo\;re thrilled to share this moment with them. Come celebrate with us\, meet the team\, and be part of this special occasion!&nbsp\;</p>\n
LOCATION:Washed Again 2004 Jefferson Road Suite A
UID:e.1626.10075
SEQUENCE:3
DTSTAMP:20260419T161522Z
URL:https://business.northfieldchamber.com/events/details/ribbon-cutting-ceremony-for-washed-again-10075
END:VEVENT

END:VCALENDAR
