BEGIN:VCALENDAR
VERSION:2.0
PRODID:-//ChamberMaster//Event Calendar 2.0//EN
METHOD:PUBLISH
X-PUBLISHED-TTL:P3D
REFRESH-INTERVAL:P3D
CALSCALE:GREGORIAN
BEGIN:VEVENT
DTSTART:20260423T223000Z
DTEND:20260424T003000Z
X-MICROSOFT-CDO-ALLDAYEVENT:FALSE
SUMMARY:RISE Professional Women- Step Into Your Power
DESCRIPTION:Join us for an inspiring and empowering event with Michelle Morris of Believe & Be Brave Life Coaching!\n\nAs a Transformational Life Coach and founder of Believe & Be Brave Life Coaching\, Michelle is devoted to helping women awaken to their inner power and create lives they truly love   both personally and professionally. Through her heart-centered\, authentic approach\, she creates a safe and encouraging space for women to gain clarity\, build bold confidence\, and rediscover belief in who they truly are\, including within their professional and workplace environments.\n\nMichelle is passionate about helping women transform their mindset\, break through limiting beliefs\, and begin speaking the Truth of who they are as they step boldly into their God-given potential. She understands that when women step fully into their power\, it impacts not only their personal lives\, but also their leadership\, careers\, and influence in the workplace.\n\nKnown for her uplifting energy and joyful spirit\, Michelle shares powerful insights on how our thoughts shape our reality   and how aligning our thoughts with our heart's desires\, passion\, and purpose unlocks a vibrant\, joyful\, and abundant life.\n\nHer mission is simple yet powerful: to inspire and empower women to believe in greater possibility\, think courageously beyond circumstances\, and step bravely into the life   and career   they truly deserve.\n\nNow is the time to step into your power   we hope you'll join us!\n\n\n\n \n\nRISE Event Menu \n\n  Included with your event entry:\n\n\n	Complimentary popcorn\n	One drink of your choice\n\n\n  Salads Bar   $12\n\nBuild your perfect plate with a variety of fresh\, flavorful options:\n\n\n	Chicken salad\n	Wild rice & sweet potato salad\n	Mediterranean salad\n	Broccoli salad\n	Fruit salad\n	Assorted breads\n	Fresh-baked cookie\n\n\n  Additional drinks available for purchase\n\n  Payment Details:\n\n\n	Pay on-site at the property\n	Cash preferred\, but cards will be accepted
X-ALT-DESC;FMTTYPE=text/html:<p data-end="103" data-start="0">Join us for an inspiring and empowering event with Michelle Morris of Believe &amp\; Be Brave Life Coaching!</p>\n\n<p data-end="570" data-start="105">As a Transformational Life Coach and founder of Believe &amp\; Be Brave Life Coaching\, Michelle is devoted to helping women awaken to their inner power and create lives they truly love &mdash\; both personally and professionally. Through her heart-centered\, authentic approach\, she creates a safe and encouraging space for women to gain clarity\, build bold confidence\, and rediscover belief in who they truly are\, including within their professional and workplace environments.</p>\n\n<p data-end="939" data-start="572">Michelle is passionate about helping women transform their mindset\, break through limiting beliefs\, and begin speaking the Truth of who they are as they step boldly into their God-given potential. She understands that when women step fully into their power\, it impacts not only their personal lives\, but also their leadership\, careers\, and influence in the workplace.</p>\n\n<p data-end="1187" data-start="941">Known for her uplifting energy and joyful spirit\, Michelle shares powerful insights on how our thoughts shape our reality &mdash\; and how aligning our thoughts with our heart&rsquo\;s desires\, passion\, and purpose unlocks a vibrant\, joyful\, and abundant life.</p>\n\n<p data-end="1395" data-start="1189">Her mission is simple yet powerful: to inspire and empower women to believe in greater possibility\, think courageously beyond circumstances\, and step bravely into the life &mdash\; and career &mdash\; they truly deserve.</p>\n\n<p data-end="1462" data-is-last-node="" data-is-only-node="" data-start="1397">Now is the time to step into your power &mdash\; we hope you&rsquo\;ll join us!<br />\n<br />\n&nbsp\;</p>\n\n<p class="isSelectedEnd"><u><strong>RISE Event Menu</strong>&nbsp\;</u></p>\n\n<p class="isSelectedEnd">&#10024\; <strong>Included with your event entry:</strong></p>\n\n<ul data-spread="false">\n	<li>Complimentary popcorn</li>\n	<li>One drink of your choice</li>\n</ul>\n\n<p class="isSelectedEnd">&#129367\; <strong>Salads Bar &ndash\; $12</strong><br />\nBuild your perfect plate with a variety of fresh\, flavorful options:</p>\n\n<ul data-spread="false">\n	<li>Chicken salad</li>\n	<li>Wild rice &amp\; sweet potato salad</li>\n	<li>Mediterranean salad</li>\n	<li>Broccoli salad</li>\n	<li>Fruit salad</li>\n	<li>Assorted breads</li>\n	<li>Fresh-baked cookie</li>\n</ul>\n\n<p class="isSelectedEnd">&#127865\; <strong>Additional drinks available for purchase</strong></p>\n\n<p class="isSelectedEnd">&#128179\; <strong>Payment Details:</strong></p>\n\n<ul data-spread="false">\n	<li>Pay on-site at the property</li>\n	<li>Cash preferred\, but cards will be accepted</li>\n</ul>\n
LOCATION:Ruth's on Stafford 410 Stafford Lane Dundas\, MN 55019
UID:e.1626.10431
SEQUENCE:3
DTSTAMP:20260419T183336Z
URL:https://business.northfieldchamber.com/events/details/rise-professional-women-step-into-your-power-10431
END:VEVENT

END:VCALENDAR
