BEGIN:VCALENDAR
VERSION:2.0
PRODID:-//ChamberMaster//Event Calendar 2.0//EN
METHOD:PUBLISH
X-PUBLISHED-TTL:P3D
REFRESH-INTERVAL:P3D
CALSCALE:GREGORIAN
BEGIN:VEVENT
DTSTART:20260408T163000Z
DTEND:20260408T180000Z
X-MICROSOFT-CDO-ALLDAYEVENT:FALSE
SUMMARY:State of The Hospital
DESCRIPTION:Join us for a discussion of the State of Northfield Hospital + Clinics and the purchase of the Northfield Allina Clinic.\n\nZander Abbott\, President & Chief Executive Officer\, will present:\n\n\n	why this is important for the future of the hospital & community\n	why this makes financial sense\n	what's staying the same and what is changing\n	what else is happening NH+C\n\n\nMost importantly - Be able to ask the questions you or your neighbor has and share what you are hearing in the community.\n\nThis is an opportunity to hear and spread factual information and expand understanding among community members about the business of providing quality and accessible healthcare in and around Northfield.
X-ALT-DESC;FMTTYPE=text/html:<!--StartFragment-->\n<div class="x_elementToProof" data-olk-copy-source="MessageBody" style="border: 0px\; font-variant-numeric: inherit\; font-variant-east-asian: inherit\; font-variant-alternates: inherit\; font-variant-position: inherit\; font-variant-emoji: inherit\; font-stretch: inherit\; font-size: 11pt\; line-height: 1.38\; font-family: Aptos\, Aptos_EmbeddedFont\, Aptos_MSFontService\, Calibri\, Helvetica\, sans-serif\, serif\, EmojiFont\; font-optical-sizing: inherit\; font-size-adjust: inherit\; font-kerning: inherit\; font-feature-settings: inherit\; font-variation-settings: inherit\; font-language-override: inherit\; margin: 0in 0in 8pt\; padding: 0px\; vertical-align: baseline\; color: rgb(0\, 0\, 0)\;">Join us for a discussion of the State of Northfield Hospital + Clinics and the purchase of the Northfield Allina Clinic.</div>\n\n<div class="x_elementToProof" style="border: 0px\; font-variant-numeric: inherit\; font-variant-east-asian: inherit\; font-variant-alternates: inherit\; font-variant-position: inherit\; font-variant-emoji: inherit\; font-stretch: inherit\; font-size: 11pt\; line-height: 1.38\; font-family: Aptos\, Aptos_EmbeddedFont\, Aptos_MSFontService\, Calibri\, Helvetica\, sans-serif\, serif\, EmojiFont\; font-optical-sizing: inherit\; font-size-adjust: inherit\; font-kerning: inherit\; font-feature-settings: inherit\; font-variation-settings: inherit\; font-language-override: inherit\; margin: 0in 0in 8pt\; padding: 0px\; vertical-align: baseline\; color: rgb(0\, 0\, 0)\;">Zander Abbott\, President &amp\; Chief Executive Officer\, will present:</div>\n\n<ul style="color: rgb(36\, 36\, 36)\; font-family: &quot\;Segoe UI&quot\;\, &quot\;Segoe UI Web (West European)&quot\;\, -apple-system\, BlinkMacSystemFont\, Roboto\, &quot\;Helvetica Neue&quot\;\, sans-serif\; font-size: 15px\; margin-top: 0in\; margin-right: 0in\;">\n	<li style="font-family: Aptos\, Aptos_EmbeddedFont\, Aptos_MSFontService\, Calibri\, Helvetica\, sans-serif\; font-size: 11pt\; color: rgb(0\, 0\, 0)\; line-height: 16.8667px\; margin: 0in 0in 0in 0.5in\;">why this is important for the future of the hospital &amp\; community</li>\n	<li style="font-family: Aptos\, Aptos_EmbeddedFont\, Aptos_MSFontService\, Calibri\, Helvetica\, sans-serif\; font-size: 11pt\; color: rgb(0\, 0\, 0)\; line-height: 16.8667px\; margin: 0in 0in 0in 0.5in\;">why this makes financial sense</li>\n	<li style="font-family: Aptos\, Aptos_EmbeddedFont\, Aptos_MSFontService\, Calibri\, Helvetica\, sans-serif\; font-size: 11pt\; color: rgb(0\, 0\, 0)\; line-height: 16.8667px\; margin: 0in 0in 0in 0.5in\;">what&rsquo\;s staying the same and what is changing</li>\n	<li style="font-family: Aptos\, Aptos_EmbeddedFont\, Aptos_MSFontService\, Calibri\, Helvetica\, sans-serif\; font-size: 11pt\; color: rgb(0\, 0\, 0)\; line-height: 16.8667px\; margin: 0in 0in 8pt 0.5in\;">what else is happening NH+C</li>\n</ul>\n\n<div class="x_elementToProof" style="border: 0px\; font-variant-numeric: inherit\; font-variant-east-asian: inherit\; font-variant-alternates: inherit\; font-variant-position: inherit\; font-variant-emoji: inherit\; font-stretch: inherit\; font-size: 11pt\; line-height: 1.38\; font-family: Aptos\, Aptos_EmbeddedFont\, Aptos_MSFontService\, Calibri\, Helvetica\, sans-serif\, serif\, EmojiFont\; font-optical-sizing: inherit\; font-size-adjust: inherit\; font-kerning: inherit\; font-feature-settings: inherit\; font-variation-settings: inherit\; font-language-override: inherit\; margin: 0in 0in 8pt\; padding: 0px\; vertical-align: baseline\; color: rgb(0\, 0\, 0)\;">Most importantly - Be able to ask the questions you or your neighbor has and share what you are hearing in the community.</div>\n\n<div class="x_elementToProof" style="border: 0px\; font-variant-numeric: inherit\; font-variant-east-asian: inherit\; font-variant-alternates: inherit\; font-variant-position: inherit\; font-variant-emoji: inherit\; font-stretch: inherit\; font-size: 11pt\; line-height: 1.38\; font-family: Aptos\, Aptos_EmbeddedFont\, Aptos_MSFontService\, Calibri\, Helvetica\, sans-serif\, serif\, EmojiFont\; font-optical-sizing: inherit\; font-size-adjust: inherit\; font-kerning: inherit\; font-feature-settings: inherit\; font-variation-settings: inherit\; font-language-override: inherit\; margin: 0in 0in 8pt\; padding: 0px\; vertical-align: baseline\; color: rgb(0\, 0\, 0)\;">This is an opportunity to hear and spread factual information and expand understanding among community members about the business of providing quality and accessible healthcare in and around Northfield.</div>\n
LOCATION:Ruth's on Stafford 410 Stafford Lane Dundas\, MN 55019
UID:e.1626.10432
SEQUENCE:3
DTSTAMP:20260419T183143Z
URL:https://business.northfieldchamber.com/events/details/state-of-the-hospital-10432
END:VEVENT

END:VCALENDAR
