BEGIN:VCALENDAR
VERSION:2.0
PRODID:-//ChamberMaster//Event Calendar 2.0//EN
METHOD:PUBLISH
X-PUBLISHED-TTL:P3D
REFRESH-INTERVAL:P3D
CALSCALE:GREGORIAN
BEGIN:VEVENT
DTSTART:20200326T213000Z
DTEND:20200326T220000Z
X-MICROSOFT-CDO-ALLDAYEVENT:FALSE
SUMMARY:Zooming After Hours
DESCRIPTION:It's like a Business After Hours\, but zooming! Grab a beer\, glass of wine\, carton of milk\, whatever floats your boat and let's have a happy hour via Zoom.
X-ALT-DESC;FMTTYPE=text/html:<span style="color: rgb(35\, 35\, 51)\; font-family: Lato\, Helvetica\, Arial\; font-size: 14px\;">It&#39\;s like a Business After Hours\, but zooming! Grab a beer\, glass of wine\, carton of milk\, whatever floats your boat and let&#39\;s have a happy hour via Zoom.</span>
LOCATION:Your couch\, outside patio\, anywhere with Zoom capabilities. Join Zoom Meeting: https://us04web.zoom.us/j/4812102704 Meeting ID: 481 210 2704
UID:e.1626.8661
SEQUENCE:3
DTSTAMP:20260424T175253Z
URL:https://business.northfieldchamber.com/events/details/zooming-after-hours-8661
END:VEVENT

END:VCALENDAR
