BEGIN:VCALENDAR
VERSION:2.0
PRODID:-//ChamberMaster//Event Calendar 2.0//EN
METHOD:PUBLISH
X-PUBLISHED-TTL:P3D
REFRESH-INTERVAL:P3D
CALSCALE:GREGORIAN
BEGIN:VEVENT
DTSTART:20210216T223000Z
DTEND:20210216T233000Z
X-MICROSOFT-CDO-ALLDAYEVENT:FALSE
SUMMARY:Zooming After Hours
DESCRIPTION:Join the Chamber for a Virtual Business After Hours! Give your Business more exposure\, network with colleagues and make new connections all from the comfort of your own home! Bring your own beverages and let's have some fun!\n\n\n\nAlso\, your business has a chance of winning 1 of 3 Chamber Bucks! Plus\, winning over $175 from the progressive chamber pot! One member is drawn from the pot\, they must be present to win!
X-ALT-DESC;FMTTYPE=text/html:<div data-block="true" data-editor="deod" data-offset-key="egspc-0-0" style="font-size: 12px\; font-family: Helvetica\, Arial\, sans-serif\; color: rgb(28\, 30\, 33)\; white-space: pre-wrap\;">\n<div class="_1mf _1mj" data-offset-key="egspc-0-0" style="position: relative\; direction: ltr\; font-family: inherit\;"><span data-offset-key="egspc-0-0" style="font-family: inherit\;">Join the Chamber for a Virtual Business After Hours! Give your Business more exposure\, network with colleagues and make new connections all from the comfort of your own home! Bring your own beverages and let&#39\;s have some fun!</span><br />\n<br />\n<span style="color: rgb(28\, 30\, 33)\; font-family: Helvetica\, Arial\, sans-serif\; font-size: 12px\; white-space: pre-wrap\;">Also\, your business has a chance of winning 1 of 3 Chamber Bucks! Plus\, winning over $175 from the progressive chamber pot! One member is drawn from the pot\, they must be present to win!</span></div>\n</div>\n
LOCATION:Join Zoom Meeting https://us02web.zoom.us/j/83923623747?pwd=M081eFlRbFdKb0tmREcyNXNaU3N2UT09 Meeting ID: 839 2362 3747 Passcode: 731092 IF DIALING IN FROM A PHONE FOR AUDIO: 1-312-626-6799 Meeting ID: 839 2362 3747 Passcode: 731092
UID:e.1626.8723
SEQUENCE:3
DTSTAMP:20260421T100638Z
URL:https://business.northfieldchamber.com/events/details/zooming-after-hours-8723
END:VEVENT

END:VCALENDAR
